{"text_format":"1","workbook":"xlsx","n_sheets":3,"sheets":["拾得物管理表","拾得の通知","リスト設定"],"not_rendered":{"charts":0,"images":0,"macros":1,"external_links":0,"defined_names":8,"comments":2,"pivot_tables":0},"unopened":[],"bounds":{"document_bytes":16777216,"sheet_cells":100000,"rows_first":2000,"rows_last":500,"rows_between":2000,"halvings":0,"cell_chars":16384,"cell_head_chars":4096},"cells_cut":0,"cells_raw":0,"read":"row_number_cap","date_system":"1900"}

{"sheet":"拾得物管理表","index":0,"n_rows":1048576,"n_cols":19,"rows_kept":4500,"cut":true,"hidden":false,"merged":[[2,5,2,7],[2,8,2,9],[2,10,2,13],[2,14,2,18]],"bounds":{"rows_first":2000,"rows_last":500,"rows_between":2000,"halvings":0},"read":"row_number_cap"}
[]
[null,"拾得物管理表",null,null,null,20,22,"年"]
[null,null,null,null,null,"拾得情報",null,null,"拾得者",null,"掲示板",null,null,null,"引渡"]
[null,"管理番号","番号","拾得物","管理状態","日時","フロア","場所","所属","名前","掲示日","掲示期間","掲載期限","残日数","日時","所属","TEL","受取サイン","対応者"]
[null,{"$f":"IF(N5<0,\"掲示日超過！\",G2&TEXT(C5,\"-000\"))","v":"22-001"},1]
[null,{"$f":"IF(N6<0,\"掲示日超過！\",G2&TEXT(C6,\"-000\"))","v":"22-002"},2]
[null,{"$f":"IF(N7<0,\"掲示日超過！\",G2&TEXT(C7,\"-000\"))","v":"22-003"},3]
[null,{"$f":"IF(N8<0,\"掲示日超過！\",G2&TEXT(C8,\"-000\"))","v":"22-004"},4]
[null,{"$f":"IF(N9<0,\"掲示日超過！\",G2&TEXT(C9,\"-000\"))","v":"22-005"},5]
[null,{"$f":"IF(N10<0,\"掲示日超過！\",G2&TEXT(C10,\"-000\"))","v":"22-006"},6]
[null,{"$f":"IF(N11<0,\"掲示日超過！\",G2&TEXT(C11,\"-000\"))","v":"22-007"},7]
[null,{"$f":"IF(N12<0,\"掲示日超過！\",G2&TEXT(C12,\"-000\"))","v":"22-008"},8]
[null,{"$f":"IF(N13<0,\"掲示日超過！\",G2&TEXT(C13,\"-000\"))","v":"22-009"},9]
[null,{"$f":"IF(N14<0,\"掲示日超過！\",G2&TEXT(C14,\"-000\"))","v":"22-010"},10]
[null,{"$f":"IF(N15<0,\"掲示日超過！\",G2&TEXT(C15,\"-000\"))","v":"22-011"},11]
[null,{"$f":"IF(N16<0,\"掲示日超過！\",G2&TEXT(C16,\"-000\"))","v":"22-012"},12]
[null,{"$f":"IF(N17<0,\"掲示日超過！\",G2&TEXT(C17,\"-000\"))","v":"22-013"},13]
[null,{"$f":"IF(N18<0,\"掲示日超過！\",G2&TEXT(C18,\"-000\"))","v":"22-014"},14]
[null,{"$f":"IF(N19<0,\"掲示日超過！\",G2&TEXT(C19,\"-000\"))","v":"22-015"},15]
[null,{"$f":"IF(N20<0,\"掲示日超過！\",G2&TEXT(C20,\"-000\"))","v":"22-016"},16]
[null,{"$f":"IF(N21<0,\"掲示日超過！\",G2&TEXT(C21,\"-000\"))","v":"22-017"},17]
[null,{"$f":"IF(N22<0,\"掲示日超過！\",G2&TEXT(C22,\"-000\"))","v":"22-018"},18]
[null,{"$f":"IF(N23<0,\"掲示日超過！\",G2&TEXT(C23,\"-000\"))","v":"22-019"},19]
[null,{"$f":"IF(N24<0,\"掲示日超過！\",G2&TEXT(C24,\"-000\"))","v":"22-020"},20]
[null,{"$f":"IF(N25<0,\"掲示日超過！\",G2&TEXT(C25,\"-000\"))","v":"22-021"},21]
[null,{"$f":"IF(N26<0,\"掲示日超過！\",G2&TEXT(C26,\"-000\"))","v":"22-022"},22]
[null,{"$f":"IF(N27<0,\"掲示日超過！\",G2&TEXT(C27,\"-000\"))","v":"22-023"},23]
[null,{"$f":"IF(N28<0,\"掲示日超過！\",G2&TEXT(C28,\"-000\"))","v":"22-024"},24]
[null,{"$f":"IF(N29<0,\"掲示日超過！\",G2&TEXT(C29,\"-000\"))","v":"22-025"},25]
[null,{"$f":"IF(N30<0,\"掲示日超過！\",G2&TEXT(C30,\"-000\"))","v":"22-026"},26]
[null,{"$f":"IF(N31<0,\"掲示日超過！\",G2&TEXT(C31,\"-000\"))","v":"22-027"},27]
[null,{"$f":"IF(N32<0,\"掲示日超過！\",G2&TEXT(C32,\"-000\"))","v":"22-028"},28]
[null,{"$f":"IF(N33<0,\"掲示日超過！\",G2&TEXT(C33,\"-000\"))","v":"22-029"},29]
[null,{"$f":"IF(N34<0,\"掲示日超過！\",G2&TEXT(C34,\"-000\"))","v":"22-030"},30]
[null,{"$f":"IF(N35<0,\"掲示日超過！\",G2&TEXT(C35,\"-000\"))","v":"22-031"},31]
[null,{"$f":"IF(N36<0,\"掲示日超過！\",G2&TEXT(C36,\"-000\"))","v":"22-032"},32]
[null,{"$f":"IF(N37<0,\"掲示日超過！\",G2&TEXT(C37,\"-000\"))","v":"22-033"},33]
[null,{"$f":"IF(N38<0,\"掲示日超過！\",G2&TEXT(C38,\"-000\"))","v":"22-034"},34]
[null,{"$f":"IF(N39<0,\"掲示日超過！\",G2&TEXT(C39,\"-000\"))","v":"22-035"},35]
[null,{"$f":"IF(N40<0,\"掲示日超過！\",G2&TEXT(C40,\"-000\"))","v":"22-036"},36]
[null,{"$f":"IF(N41<0,\"掲示日超過！\",G2&TEXT(C41,\"-000\"))","v":"22-037"},37]
[null,{"$f":"IF(N42<0,\"掲示日超過！\",G2&TEXT(C42,\"-000\"))","v":"22-038"},38]
[null,{"$f":"IF(N43<0,\"掲示日超過！\",G2&TEXT(C43,\"-000\"))","v":"22-039"},39]
[null,{"$f":"IF(N44<0,\"掲示日超過！\",G2&TEXT(C44,\"-000\"))","v":"22-040"},40]
[null,{"$f":"IF(N45<0,\"掲示日超過！\",G2&TEXT(C45,\"-000\"))","v":"22-041"},41]
[null,{"$f":"IF(N46<0,\"掲示日超過！\",G2&TEXT(C46,\"-000\"))","v":"22-042"},42]
[null,{"$f":"IF(N47<0,\"掲示日超過！\",G2&TEXT(C47,\"-000\"))","v":"22-043"},43]
[null,{"$f":"IF(N48<0,\"掲示日超過！\",G2&TEXT(C48,\"-000\"))","v":"22-044"},44]
[null,{"$f":"IF(N49<0,\"掲示日超過！\",G2&TEXT(C49,\"-000\"))","v":"22-045"},45]
[null,{"$f":"IF(N50<0,\"掲示日超過！\",G2&TEXT(C50,\"-000\"))","v":"22-046"},46]
[null,{"$f":"IF(N51<0,\"掲示日超過！\",G2&TEXT(C51,\"-000\"))","v":"22-047"},47]
[null,{"$f":"IF(N52<0,\"掲示日超過！\",G2&TEXT(C52,\"-000\"))","v":"22-048"},48]
[null,{"$f":"IF(N53<0,\"掲示日超過！\",G2&TEXT(C53,\"-000\"))","v":"22-049"},49]
[null,{"$f":"IF(N54<0,\"掲示日超過！\",G2&TEXT(C54,\"-000\"))","v":"22-050"},50]
[null,{"$f":"IF(N55<0,\"掲示日超過！\",G2&TEXT(C55,\"-000\"))","v":"22-051"},51]
[null,{"$f":"IF(N56<0,\"掲示日超過！\",G2&TEXT(C56,\"-000\"))","v":"22-052"},52,null,null,null,null,null,null,null,null,{"$f":"IF(K56=\"\",\"\",10)","v":""},{"$f":"IF(K56=\"\",\"\",K56+L56)","v":""},{"$f":"IF(OR(E56=\"警察渡し（完了）\",E56=\"廃　棄（完了）\",E56=\"返却済（完了）\",E56=\"原局戻し（完了）\"),0,IF(L56=\"\",\"\",M56-TODAY()))","v":""}]
[null,{"$f":"IF(N57<0,\"掲示日超過！\",G2&TEXT(C57,\"-000\"))","v":"22-053"},53,null,null,null,null,null,null,null,null,"","",""]
[null,{"$f":"IF(N58<0,\"掲示日超過！\",G2&TEXT(C58,\"-000\"))","v":"22-054"},54,null,null,null,null,null,null,null,null,"","",""]
[null,{"$f":"IF(N59<0,\"掲示日超過！\",G2&TEXT(C59,\"-000\"))","v":"22-055"},55,null,null,null,null,null,null,null,null,"","",""]
[null,{"$f":"IF(N60<0,\"掲示日超過！\",G2&TEXT(C60,\"-000\"))","v":"22-056"},56,null,null,null,null,null,null,null,null,"","",""]
[null,{"$f":"IF(N61<0,\"掲示日超過！\",G2&TEXT(C61,\"-000\"))","v":"22-057"},57,null,null,null,null,null,null,null,null,"","",""]
[null,{"$f":"IF(N62<0,\"掲示日超過！\",G2&TEXT(C62,\"-000\"))","v":"22-058"},58,null,null,null,null,null,null,null,null,"","",""]
[null,{"$f":"IF(N63<0,\"掲示日超過！\",G2&TEXT(C63,\"-000\"))","v":"22-059"},59,null,null,null,null,null,null,null,null,"","",""]
[null,{"$f":"IF(N64<0,\"掲示日超過！\",G2&TEXT(C64,\"-000\"))","v":"22-060"},60,null,null,null,null,null,null,null,null,"","",""]
[null,{"$f":"IF(N65<0,\"掲示日超過！\",G2&TEXT(C65,\"-000\"))","v":"22-061"},61,null,null,null,null,null,null,null,null,"","",""]
[null,{"$f":"IF(N66<0,\"掲示日超過！\",G2&TEXT(C66,\"-000\"))","v":"22-062"},62,null,null,null,null,null,null,null,null,"","",""]
[null,{"$f":"IF(N67<0,\"掲示日超過！\",G2&TEXT(C67,\"-000\"))","v":"22-063"},63,null,null,null,null,null,null,null,null,"","",""]
[null,{"$f":"IF(N68<0,\"掲示日超過！\",G2&TEXT(C68,\"-000\"))","v":"22-064"},64,null,null,null,null,null,null,null,null,"","",""]
[null,{"$f":"IF(N69<0,\"掲示日超過！\",G2&TEXT(C69,\"-000\"))","v":"22-065"},65,null,null,null,null,null,null,null,null,{"$f":"IF(K69=\"\",\"\",10)","v":""},{"$f":"IF(K69=\"\",\"\",K69+L69)","v":""},{"$f":"IF(OR(E69=\"警察渡し（完了）\",E69=\"廃　棄（完了）\",E69=\"返却済（完了）\",E69=\"原局戻し（完了）\"),0,IF(L69=\"\",\"\",M69-TODAY()))","v":""}]
[null,{"$f":"IF(N70<0,\"掲示日超過！\",G2&TEXT(C70,\"-000\"))","v":"22-066"},66,null,null,null,null,null,null,null,null,"","",""]
[null,{"$f":"IF(N71<0,\"掲示日超過！\",G2&TEXT(C71,\"-000\"))","v":"22-067"},67,null,null,null,null,null,null,null,null,"","",""]
[null,{"$f":"IF(N72<0,\"掲示日超過！\",G2&TEXT(C72,\"-000\"))","v":"22-068"},68,null,null,null,null,null,null,null,null,"","",""]
[null,{"$f":"IF(N73<0,\"掲示日超過！\",G2&TEXT(C73,\"-000\"))","v":"22-069"},69,null,null,null,null,null,null,null,null,"","",""]
[null,{"$f":"IF(N74<0,\"掲示日超過！\",G2&TEXT(C74,\"-000\"))","v":"22-070"},70,null,null,null,null,null,null,null,null,"","",""]
[null,{"$f":"IF(N75<0,\"掲示日超過！\",G2&TEXT(C75,\"-000\"))","v":"22-071"},71,null,null,null,null,null,null,null,null,"","",""]
[null,{"$f":"IF(N76<0,\"掲示日超過！\",G2&TEXT(C76,\"-000\"))","v":"22-072"},72,null,null,null,null,null,null,null,null,"","",""]
[null,{"$f":"IF(N77<0,\"掲示日超過！\",G2&TEXT(C77,\"-000\"))","v":"22-073"},73,null,null,null,null,null,null,null,null,"","",""]
[null,{"$f":"IF(N78<0,\"掲示日超過！\",G2&TEXT(C78,\"-000\"))","v":"22-074"},74,null,null,null,null,null,null,null,null,"","",""]
[null,{"$f":"IF(N79<0,\"掲示日超過！\",G2&TEXT(C79,\"-000\"))","v":"22-075"},75,null,null,null,null,null,null,null,null,"","",""]
[null,{"$f":"IF(N80<0,\"掲示日超過！\",G2&TEXT(C80,\"-000\"))","v":"22-076"},76,null,null,null,null,null,null,null,null,"","",""]
[null,{"$f":"IF(N81<0,\"掲示日超過！\",G2&TEXT(C81,\"-000\"))","v":"22-077"},77,null,null,null,null,null,null,null,null,"","",""]
[null,{"$f":"IF(N82<0,\"掲示日超過！\",G2&TEXT(C82,\"-000\"))","v":"22-078"},78,null,null,null,null,null,null,null,null,"","",""]
[null,{"$f":"IF(N83<0,\"掲示日超過！\",G2&TEXT(C83,\"-000\"))","v":"22-079"},79,null,null,null,null,null,null,null,null,"","",""]
[null,{"$f":"IF(N84<0,\"掲示日超過！\",G2&TEXT(C84,\"-000\"))","v":"22-080"},80,null,null,null,null,null,null,null,null,"","",""]
[null,{"$f":"IF(N85<0,\"掲示日超過！\",G2&TEXT(C85,\"-000\"))","v":"22-081"},81,null,null,null,null,null,null,null,null,"","",""]
[null,{"$f":"IF(N86<0,\"掲示日超過！\",G2&TEXT(C86,\"-000\"))","v":"22-082"},82,null,null,null,null,null,null,null,null,"","",""]
[null,{"$f":"IF(N87<0,\"掲示日超過！\",G2&TEXT(C87,\"-000\"))","v":"22-083"},83,null,null,null,null,null,null,null,null,"","",""]
[null,{"$f":"IF(N88<0,\"掲示日超過！\",G2&TEXT(C88,\"-000\"))","v":"22-084"},84,null,null,null,null,null,null,null,null,"","",""]
[null,{"$f":"IF(N89<0,\"掲示日超過！\",G2&TEXT(C89,\"-000\"))","v":"22-085"},85,null,null,null,null,null,null,null,null,"","",""]
[null,{"$f":"IF(N90<0,\"掲示日超過！\",G2&TEXT(C90,\"-000\"))","v":"22-086"},86,null,null,null,null,null,null,null,null,"","",""]
[null,{"$f":"IF(N91<0,\"掲示日超過！\",G2&TEXT(C91,\"-000\"))","v":"22-087"},87,null,null,null,null,null,null,null,null,"","",""]
[null,{"$f":"IF(N92<0,\"掲示日超過！\",G2&TEXT(C92,\"-000\"))","v":"22-088"},88,null,null,null,null,null,null,null,null,"","",""]
[null,{"$f":"IF(N93<0,\"掲示日超過！\",G2&TEXT(C93,\"-000\"))","v":"22-089"},89,null,null,null,null,null,null,null,null,"","",""]
[null,{"$f":"IF(N94<0,\"掲示日超過！\",G2&TEXT(C94,\"-000\"))","v":"22-090"},90,null,null,null,null,null,null,null,null,"","",""]
[null,{"$f":"IF(N95<0,\"掲示日超過！\",G2&TEXT(C95,\"-000\"))","v":"22-091"},91,null,null,null,null,null,null,null,null,"","",""]
[null,{"$f":"IF(N96<0,\"掲示日超過！\",G2&TEXT(C96,\"-000\"))","v":"22-092"},92,null,null,null,null,null,null,null,null,"","",""]
[null,{"$f":"IF(N97<0,\"掲示日超過！\",G2&TEXT(C97,\"-000\"))","v":"22-093"},93,null,null,null,null,null,null,null,null,"","",""]
[null,{"$f":"IF(N98<0,\"掲示日超過！\",G2&TEXT(C98,\"-000\"))","v":"22-094"},94,null,null,null,null,null,null,null,null,"","",""]
[null,{"$f":"IF(N99<0,\"掲示日超過！\",G2&TEXT(C99,\"-000\"))","v":"22-095"},95,null,null,null,null,null,null,null,null,"","",""]
[null,{"$f":"IF(N100<0,\"掲示日超過！\",G2&TEXT(C100,\"-000\"))","v":"22-096"},96,null,null,null,null,null,null,null,null,"","",""]
[null,{"$f":"IF(N101<0,\"掲示日超過！\",G2&TEXT(C101,\"-000\"))","v":"22-097"},97,null,null,null,null,null,null,null,null,{"$f":"IF(K101=\"\",\"\",10)","v":""},{"$f":"IF(K101=\"\",\"\",K101+L101)","v":""},{"$f":"IF(OR(E101=\"警察渡し（完了）\",E101=\"廃　棄（完了）\",E101=\"返却済（完了）\",E101=\"原局戻し（完了）\"),0,IF(L101=\"\",\"\",M101-TODAY()))","v":""}]
[null,{"$f":"IF(N102<0,\"掲示日超過！\",G2&TEXT(C102,\"-000\"))","v":"22-098"},98,null,null,null,null,null,null,null,null,"","",""]
[null,{"$f":"IF(N103<0,\"掲示日超過！\",G2&TEXT(C103,\"-000\"))","v":"22-099"},99,null,null,null,null,null,null,null,null,"","",""]
[null,{"$f":"IF(N104<0,\"掲示日超過！\",G2&TEXT(C104,\"-000\"))","v":"22-100"},100,null,null,null,null,null,null,null,null,"","",""]
[null,{"$f":"IF(N105<0,\"掲示日超過！\",G2&TEXT(C105,\"-000\"))","v":"22-101"},101,null,null,null,null,null,null,null,null,"","",""]
[null,{"$f":"IF(N106<0,\"掲示日超過！\",G2&TEXT(C106,\"-000\"))","v":"22-102"},102,null,null,null,null,null,null,null,null,"","",""]
[null,{"$f":"IF(N107<0,\"掲示日超過！\",G2&TEXT(C107,\"-000\"))","v":"22-103"},103,null,null,null,null,null,null,null,null,"","",""]
[null,{"$f":"IF(N108<0,\"掲示日超過！\",G2&TEXT(C108,\"-000\"))","v":"22-104"},104,null,null,null,null,null,null,null,null,"","",""]
[null,{"$f":"IF(N109<0,\"掲示日超過！\",G2&TEXT(C109,\"-000\"))","v":"22-105"},105,null,null,null,null,null,null,null,null,"","",""]
[null,{"$f":"IF(N110<0,\"掲示日超過！\",G2&TEXT(C110,\"-000\"))","v":"22-106"},106,null,null,null,null,null,null,null,null,"","",""]
[null,{"$f":"IF(N111<0,\"掲示日超過！\",G2&TEXT(C111,\"-000\"))","v":"22-107"},107,null,null,null,null,null,null,null,null,"","",""]
[null,{"$f":"IF(N112<0,\"掲示日超過！\",G2&TEXT(C112,\"-000\"))","v":"22-108"},108,null,null,null,null,null,null,null,null,"","",""]
[null,{"$f":"IF(N113<0,\"掲示日超過！\",G2&TEXT(C113,\"-000\"))","v":"22-109"},109,null,null,null,null,null,null,null,null,"","",""]
[null,{"$f":"IF(N114<0,\"掲示日超過！\",G2&TEXT(C114,\"-000\"))","v":"22-110"},110,null,null,null,null,null,null,null,null,"","",""]
[null,{"$f":"IF(N115<0,\"掲示日超過！\",G2&TEXT(C115,\"-000\"))","v":"22-111"},111,null,null,null,null,null,null,null,null,"","",""]
[null,{"$f":"IF(N116<0,\"掲示日超過！\",G2&TEXT(C116,\"-000\"))","v":"22-112"},112,null,null,null,null,null,null,null,null,"","",""]
[null,{"$f":"IF(N117<0,\"掲示日超過！\",G2&TEXT(C117,\"-000\"))","v":"22-113"},113,null,null,null,null,null,null,null,null,"","",""]
[null,{"$f":"IF(N118<0,\"掲示日超過！\",G2&TEXT(C118,\"-000\"))","v":"22-114"},114,null,null,null,null,null,null,null,null,"","",""]
[null,{"$f":"IF(N119<0,\"掲示日超過！\",G2&TEXT(C119,\"-000\"))","v":"22-115"},115,null,null,null,null,null,null,null,null,"","",""]
[null,{"$f":"IF(N120<0,\"掲示日超過！\",G2&TEXT(C120,\"-000\"))","v":"22-116"},116,null,null,null,null,null,null,null,null,"","",""]
[null,{"$f":"IF(N121<0,\"掲示日超過！\",G2&TEXT(C121,\"-000\"))","v":"22-117"},117,null,null,null,null,null,null,null,null,"","",""]
[null,{"$f":"IF(N122<0,\"掲示日超過！\",G2&TEXT(C122,\"-000\"))","v":"22-118"},118,null,null,null,null,null,null,null,null,"","",""]
[null,{"$f":"IF(N123<0,\"掲示日超過！\",G2&TEXT(C123,\"-000\"))","v":"22-119"},119,null,null,null,null,null,null,null,null,"","",""]
[null,{"$f":"IF(N124<0,\"掲示日超過！\",G2&TEXT(C124,\"-000\"))","v":"22-120"},120,null,null,null,null,null,null,null,null,"","",""]
[null,{"$f":"IF(N125<0,\"掲示日超過！\",G2&TEXT(C125,\"-000\"))","v":"22-121"},121,null,null,null,null,null,null,null,null,"","",""]
[null,{"$f":"IF(N126<0,\"掲示日超過！\",G2&TEXT(C126,\"-000\"))","v":"22-122"},122,null,null,null,null,null,null,null,null,"","",""]
[null,{"$f":"IF(N127<0,\"掲示日超過！\",G2&TEXT(C127,\"-000\"))","v":"22-123"},123,null,null,null,null,null,null,null,null,"","",""]
[null,{"$f":"IF(N128<0,\"掲示日超過！\",G2&TEXT(C128,\"-000\"))","v":"22-124"},124,null,null,null,null,null,null,null,null,"","",""]
[null,{"$f":"IF(N129<0,\"掲示日超過！\",G2&TEXT(C129,\"-000\"))","v":"22-125"},125,null,null,null,null,null,null,null,null,"","",""]
[null,{"$f":"IF(N130<0,\"掲示日超過！\",G2&TEXT(C130,\"-000\"))","v":"22-126"},126,null,null,null,null,null,null,null,null,"","",""]
[null,{"$f":"IF(N131<0,\"掲示日超過！\",G2&TEXT(C131,\"-000\"))","v":"22-127"},127,null,null,null,null,null,null,null,null,"","",""]
[null,{"$f":"IF(N132<0,\"掲示日超過！\",G2&TEXT(C132,\"-000\"))","v":"22-128"},128,null,null,null,null,null,null,null,null,"","",""]
[null,{"$f":"IF(N133<0,\"掲示日超過！\",G2&TEXT(C133,\"-000\"))","v":"22-129"},129,null,null,null,null,null,null,null,null,{"$f":"IF(K133=\"\",\"\",10)","v":""},{"$f":"IF(K133=\"\",\"\",K133+L133)","v":""},{"$f":"IF(OR(E133=\"警察渡し（完了）\",E133=\"廃　棄（完了）\",E133=\"返却済（完了）\",E133=\"原局戻し（完了）\"),0,IF(L133=\"\",\"\",M133-TODAY()))","v":""}]
[null,{"$f":"IF(N134<0,\"掲示日超過！\",G2&TEXT(C134,\"-000\"))","v":"22-130"},130,null,null,null,null,null,null,null,null,"","",""]
[null,{"$f":"IF(N135<0,\"掲示日超過！\",G2&TEXT(C135,\"-000\"))","v":"22-131"},131,null,null,null,null,null,null,null,null,"","",""]
[null,{"$f":"IF(N136<0,\"掲示日超過！\",G2&TEXT(C136,\"-000\"))","v":"22-132"},132,null,null,null,null,null,null,null,null,"","",""]
[null,{"$f":"IF(N137<0,\"掲示日超過！\",G2&TEXT(C137,\"-000\"))","v":"22-133"},133,null,null,null,null,null,null,null,null,"","",""]
[null,{"$f":"IF(N138<0,\"掲示日超過！\",G2&TEXT(C138,\"-000\"))","v":"22-134"},134,null,null,null,null,null,null,null,null,"","",""]
[null,{"$f":"IF(N139<0,\"掲示日超過！\",G2&TEXT(C139,\"-000\"))","v":"22-135"},135,null,null,null,null,null,null,null,null,"","",""]
[null,{"$f":"IF(N140<0,\"掲示日超過！\",G2&TEXT(C140,\"-000\"))","v":"22-136"},136,null,null,null,null,null,null,null,null,"","",""]
[null,{"$f":"IF(N141<0,\"掲示日超過！\",G2&TEXT(C141,\"-000\"))","v":"22-137"},137,null,null,null,null,null,null,null,null,"","",""]
[null,{"$f":"IF(N142<0,\"掲示日超過！\",G2&TEXT(C142,\"-000\"))","v":"22-138"},138,null,null,null,null,null,null,null,null,"","",""]
[null,{"$f":"IF(N143<0,\"掲示日超過！\",G2&TEXT(C143,\"-000\"))","v":"22-139"},139,null,null,null,null,null,null,null,null,"","",""]
[null,{"$f":"IF(N144<0,\"掲示日超過！\",G2&TEXT(C144,\"-000\"))","v":"22-140"},140,null,null,null,null,null,null,null,null,"","",""]
[null,{"$f":"IF(N145<0,\"掲示日超過！\",G2&TEXT(C145,\"-000\"))","v":"22-141"},141,null,null,null,null,null,null,null,null,"","",""]
[null,{"$f":"IF(N146<0,\"掲示日超過！\",G2&TEXT(C146,\"-000\"))","v":"22-142"},142,null,null,null,null,null,null,null,null,"","",""]
[null,{"$f":"IF(N147<0,\"掲示日超過！\",G2&TEXT(C147,\"-000\"))","v":"22-143"},143,null,null,null,null,null,null,null,null,"","",""]
[null,{"$f":"IF(N148<0,\"掲示日超過！\",G2&TEXT(C148,\"-000\"))","v":"22-144"},144,null,null,null,null,null,null,null,null,"","",""]
[null,{"$f":"IF(N149<0,\"掲示日超過！\",G2&TEXT(C149,\"-000\"))","v":"22-145"},145,null,null,null,null,null,null,null,null,"","",""]
[null,{"$f":"IF(N150<0,\"掲示日超過！\",G2&TEXT(C150,\"-000\"))","v":"22-146"},146,null,null,null,null,null,null,null,null,"","",""]
[null,{"$f":"IF(N151<0,\"掲示日超過！\",G2&TEXT(C151,\"-000\"))","v":"22-147"},147,null,null,null,null,null,null,null,null,"","",""]
[null,{"$f":"IF(N152<0,\"掲示日超過！\",G2&TEXT(C152,\"-000\"))","v":"22-148"},148,null,null,null,null,null,null,null,null,"","",""]
[null,{"$f":"IF(N153<0,\"掲示日超過！\",G2&TEXT(C153,\"-000\"))","v":"22-149"},149,null,null,null,null,null,null,null,null,"","",""]
[null,{"$f":"IF(N154<0,\"掲示日超過！\",G2&TEXT(C154,\"-000\"))","v":"22-150"},150,null,null,null,null,null,null,null,null,"","",""]
[null,{"$f":"IF(N155<0,\"掲示日超過！\",G2&TEXT(C155,\"-000\"))","v":"22-151"},151,null,null,null,null,null,null,null,null,"","",""]
[null,{"$f":"IF(N156<0,\"掲示日超過！\",G2&TEXT(C156,\"-000\"))","v":"22-152"},152,null,null,null,null,null,null,null,null,"","",""]
[null,{"$f":"IF(N157<0,\"掲示日超過！\",G2&TEXT(C157,\"-000\"))","v":"22-153"},153,null,null,null,null,null,null,null,null,"","",""]
[null,{"$f":"IF(N158<0,\"掲示日超過！\",G2&TEXT(C158,\"-000\"))","v":"22-154"},154,null,null,null,null,null,null,null,null,"","",""]
[null,{"$f":"IF(N159<0,\"掲示日超過！\",G2&TEXT(C159,\"-000\"))","v":"22-155"},155,null,null,null,null,null,null,null,null,"","",""]
[null,{"$f":"IF(N160<0,\"掲示日超過！\",G2&TEXT(C160,\"-000\"))","v":"22-156"},156,null,null,null,null,null,null,null,null,"","",""]
[null,{"$f":"IF(N161<0,\"掲示日超過！\",G2&TEXT(C161,\"-000\"))","v":"22-157"},157,null,null,null,null,null,null,null,null,"","",""]
[null,{"$f":"IF(N162<0,\"掲示日超過！\",G2&TEXT(C162,\"-000\"))","v":"22-158"},158,null,null,null,null,null,null,null,null,"","",""]
[null,{"$f":"IF(N163<0,\"掲示日超過！\",G2&TEXT(C163,\"-000\"))","v":"22-159"},159,null,null,null,null,null,null,null,null,"","",""]
[null,{"$f":"IF(N164<0,\"掲示日超過！\",G2&TEXT(C164,\"-000\"))","v":"22-160"},160,null,null,null,null,null,null,null,null,"","",""]
[null,{"$f":"IF(N165<0,\"掲示日超過！\",G2&TEXT(C165,\"-000\"))","v":"22-161"},161,null,null,null,null,null,null,null,null,{"$f":"IF(K165=\"\",\"\",10)","v":""},{"$f":"IF(K165=\"\",\"\",K165+L165)","v":""},{"$f":"IF(OR(E165=\"警察渡し（完了）\",E165=\"廃　棄（完了）\",E165=\"返却済（完了）\",E165=\"原局戻し（完了）\"),0,IF(L165=\"\",\"\",M165-TODAY()))","v":""}]
[null,{"$f":"IF(N166<0,\"掲示日超過！\",G2&TEXT(C166,\"-000\"))","v":"22-162"},162,null,null,null,null,null,null,null,null,"","",""]
[null,{"$f":"IF(N167<0,\"掲示日超過！\",G2&TEXT(C167,\"-000\"))","v":"22-163"},163,null,null,null,null,null,null,null,null,"","",""]
[null,{"$f":"IF(N168<0,\"掲示日超過！\",G2&TEXT(C168,\"-000\"))","v":"22-164"},164,null,null,null,null,null,null,null,null,"","",""]
[null,{"$f":"IF(N169<0,\"掲示日超過！\",G2&TEXT(C169,\"-000\"))","v":"22-165"},165,null,null,null,null,null,null,null,null,"","",""]
[null,{"$f":"IF(N170<0,\"掲示日超過！\",G2&TEXT(C170,\"-000\"))","v":"22-166"},166,null,null,null,null,null,null,null,null,"","",""]
[null,{"$f":"IF(N171<0,\"掲示日超過！\",G2&TEXT(C171,\"-000\"))","v":"22-167"},167,null,null,null,null,null,null,null,null,"","",""]
[null,{"$f":"IF(N172<0,\"掲示日超過！\",G2&TEXT(C172,\"-000\"))","v":"22-168"},168,null,null,null,null,null,null,null,null,"","",""]
[null,{"$f":"IF(N173<0,\"掲示日超過！\",G2&TEXT(C173,\"-000\"))","v":"22-169"},169,null,null,null,null,null,null,null,null,"","",""]
[null,{"$f":"IF(N174<0,\"掲示日超過！\",G2&TEXT(C174,\"-000\"))","v":"22-170"},170,null,null,null,null,null,null,null,null,"","",""]
[null,{"$f":"IF(N175<0,\"掲示日超過！\",G2&TEXT(C175,\"-000\"))","v":"22-171"},171,null,null,null,null,null,null,null,null,"","",""]
[null,{"$f":"IF(N176<0,\"掲示日超過！\",G2&TEXT(C176,\"-000\"))","v":"22-172"},172,null,null,null,null,null,null,null,null,"","",""]
[null,{"$f":"IF(N177<0,\"掲示日超過！\",G2&TEXT(C177,\"-000\"))","v":"22-173"},173,null,null,null,null,null,null,null,null,"","",""]
[null,{"$f":"IF(N178<0,\"掲示日超過！\",G2&TEXT(C178,\"-000\"))","v":"22-174"},174,null,null,null,null,null,null,null,null,"","",""]
[null,{"$f":"IF(N179<0,\"掲示日超過！\",G2&TEXT(C179,\"-000\"))","v":"22-175"},175,null,null,null,null,null,null,null,null,"","",""]
[null,{"$f":"IF(N180<0,\"掲示日超過！\",G2&TEXT(C180,\"-000\"))","v":"22-176"},176,null,null,null,null,null,null,null,null,"","",""]
[null,{"$f":"IF(N181<0,\"掲示日超過！\",G2&TEXT(C181,\"-000\"))","v":"22-177"},177,null,null,null,null,null,null,null,null,"","",""]
[null,{"$f":"IF(N182<0,\"掲示日超過！\",G2&TEXT(C182,\"-000\"))","v":"22-178"},178,null,null,null,null,null,null,null,null,"","",""]
[null,{"$f":"IF(N183<0,\"掲示日超過！\",G2&TEXT(C183,\"-000\"))","v":"22-179"},179,null,null,null,null,null,null,null,null,"","",""]
[null,{"$f":"IF(N184<0,\"掲示日超過！\",G2&TEXT(C184,\"-000\"))","v":"22-180"},180,null,null,null,null,null,null,null,null,"","",""]
[null,{"$f":"IF(N185<0,\"掲示日超過！\",G2&TEXT(C185,\"-000\"))","v":"22-181"},181,null,null,null,null,null,null,null,null,"","",""]
[null,{"$f":"IF(N186<0,\"掲示日超過！\",G2&TEXT(C186,\"-000\"))","v":"22-182"},182,null,null,null,null,null,null,null,null,"","",""]
[null,{"$f":"IF(N187<0,\"掲示日超過！\",G2&TEXT(C187,\"-000\"))","v":"22-183"},183,null,null,null,null,null,null,null,null,"","",""]
[null,{"$f":"IF(N188<0,\"掲示日超過！\",G2&TEXT(C188,\"-000\"))","v":"22-184"},184,null,null,null,null,null,null,null,null,"","",""]
[null,{"$f":"IF(N189<0,\"掲示日超過！\",G2&TEXT(C189,\"-000\"))","v":"22-185"},185,null,null,null,null,null,null,null,null,"","",""]
[null,{"$f":"IF(N190<0,\"掲示日超過！\",G2&TEXT(C190,\"-000\"))","v":"22-186"},186,null,null,null,null,null,null,null,null,"","",""]
[null,{"$f":"IF(N191<0,\"掲示日超過！\",G2&TEXT(C191,\"-000\"))","v":"22-187"},187,null,null,null,null,null,null,null,null,"","",""]
[null,{"$f":"IF(N192<0,\"掲示日超過！\",G2&TEXT(C192,\"-000\"))","v":"22-188"},188,null,null,null,null,null,null,null,null,"","",""]
[null,{"$f":"IF(N193<0,\"掲示日超過！\",G2&TEXT(C193,\"-000\"))","v":"22-189"},189,null,null,null,null,null,null,null,null,"","",""]
[null,{"$f":"IF(N194<0,\"掲示日超過！\",G2&TEXT(C194,\"-000\"))","v":"22-190"},190,null,null,null,null,null,null,null,null,"","",""]
[null,{"$f":"IF(N195<0,\"掲示日超過！\",G2&TEXT(C195,\"-000\"))","v":"22-191"},191,null,null,null,null,null,null,null,null,"","",""]
[null,{"$f":"IF(N196<0,\"掲示日超過！\",G2&TEXT(C196,\"-000\"))","v":"22-192"},192,null,null,null,null,null,null,null,null,"","",""]
[null,{"$f":"IF(N197<0,\"掲示日超過！\",G2&TEXT(C197,\"-000\"))","v":"22-193"},193,null,null,null,null,null,null,null,null,{"$f":"IF(K197=\"\",\"\",10)","v":""},{"$f":"IF(K197=\"\",\"\",K197+L197)","v":""},{"$f":"IF(OR(E197=\"警察渡し（完了）\",E197=\"廃　棄（完了）\",E197=\"返却済（完了）\",E197=\"原局戻し（完了）\"),0,IF(L197=\"\",\"\",M197-TODAY()))","v":""}]
[null,{"$f":"IF(N198<0,\"掲示日超過！\",G2&TEXT(C198,\"-000\"))","v":"22-194"},194,null,null,null,null,null,null,null,null,"","",""]
[null,{"$f":"IF(N199<0,\"掲示日超過！\",G2&TEXT(C199,\"-000\"))","v":"22-195"},195,null,null,null,null,null,null,null,null,"","",""]
[null,{"$f":"IF(N200<0,\"掲示日超過！\",G2&TEXT(C200,\"-000\"))","v":"22-196"},196,null,null,null,null,null,null,null,null,"","",""]
[null,{"$f":"IF(N201<0,\"掲示日超過！\",G2&TEXT(C201,\"-000\"))","v":"22-197"},197,null,null,null,null,null,null,null,null,"","",""]
[null,{"$f":"IF(N202<0,\"掲示日超過！\",G2&TEXT(C202,\"-000\"))","v":"22-198"},198,null,null,null,null,null,null,null,null,"","",""]
[null,{"$f":"IF(N203<0,\"掲示日超過！\",G2&TEXT(C203,\"-000\"))","v":"22-199"},199,null,null,null,null,null,null,null,null,"","",""]
[null,{"$f":"IF(N204<0,\"掲示日超過！\",G2&TEXT(C204,\"-000\"))","v":"22-200"},200,null,null,null,null,null,null,null,null,"","",""]
[]
[]
[]
[]
[]
[]
[]
[]
[]
[]
[]
[]
[]
[]
[]
[]
[]
[]
[]
[]
[]
[]
[]
[]
[]
[]
[]
[]
[]
[]
[]
[]
[]
[]
[]
[]
[]
[]
[]
[]
[]
[]
[]
[]
[]
[]
[]
[]
[]
[]
[]
[]
[]
[]
[]
[]
[]
[]
[]
[]
[]
[]
[]
[]
[]
[]
[]
[]
[]
[]
[]
[]
[]
[]
[]
[]
[]
[]
[]
[]
[]
[]
[]
[]
[]
[]
[]
[]
[]
[]
[]
[]
[]
[]
[]
[]
[]
[]
[]
[]
[]
[]
[]
[]
[]
[]
[]
[]
[]
[]
[]
[]
[]
[]
[]
[]
[]
[]
[]
[]
[]
[]
[]
[]
[]
[]
[]
[]
[]
[]
[]
[]
[]
[]
[]
[]
[]
[]
[]
[]
[]
[]
[]
[]
[]
[]
[]
[]
[]
[]
[]
[]
[]
[]
[]
[]
[]
[]
[]
[]
[]
[]
[]
[]
[]
[]
[]
[]
[]
[]
[]
[]
[]
[]
[]
[]
[]
[]
[]
[]
[]
[]
[]
[]
[]
[]
[]
[]
[]
[]
[]
[]
[]
[]
[]
[]
[]
[]
[]
[]
[]
[]
[]
[]
[]
[]
[]
[]
[]
[]
[]
[]
[]
[]
[]
[]
[]
[]
[]
[]
[]
[]
[]
[]
[]
[]
[]
[]
[]
[]
[]
[]
[]
[]
[]
[]
[]
[]
[]
[]
[]
[]
[]
[]
[]
[]
[]
[]
[]
[]
[]
[]
[]
[]
[]
[]
[]
[]
[]
[]
[]
[]
[]
[]
[]
[]
[]
[]
[]
[]
[]
[]
[]
[]
[]
[]
[]
[]
[]
[]
[]
[]
[]
[]
[]
[]
[]
[]
[]
[]
[]
[]
[]
[]
[]
[]
[]
[]
[]
[]
[]
[]
[]
[]
[]
[]
[]
[]
[]
[]
[]
[]
[]
[]
[]
[]
[]
[]
[]
[]
[]
[]
[]
[]
[]
[]
[]
[]
[]
[]
[]
[]
[]
[]
[]
[]
[]
[]
[]
[]
[]
[]
[]
[]
[]
[]
[]
[]
[]
[]
[]
[]
[]
[]
[]
[]
[]
[]
[]
[]
[]
[]
[]
[]
[]
[]
[]
[]
[]
[]
[]
[]
[]
[]
[]
[]
[]
[]
[]
[]
[]
[]
[]
[]
[]
[]
[]
[]
[]
[]
[]
[]
[]
[]
[]
[]
[]
[]
[]
[]
[]
[]
[]
[]
[]
[]
[]
[]
[]
[]
[]
[]
[]
[]
[]
[]
[]
[]
[]
[]
[]
[]
[]
[]
[]
[]
[]
[]
[]
[]
[]
[]
[]
[]
[]
[]
[]
[]
[]
[]
[]
[]
[]
[]
[]
[]
[]
[]
[]
[]
[]
[]
[]
[]
[]
[]
[]
[]
[]
[]
[]
[]
[]
[]
[]
[]
[]
[]
[]
[]
[]
[]
[]
[]
[]
[]
[]
[]
[]
[]
[]
[]
[]
[]
[]
[]
[]
[]
[]
[]
[]
[]
[]
[]
[]
[]
[]
[]
[]
[]
[]
[]
[]
[]
[]
[]
[]
[]
[]
[]
[]
[]
[]
[]
[]
[]
[]
[]
[]
[]
[]
[]
[]
[]
[]
[]
[]
[]
[]
[]
[]
[]
[]
[]
[]
[]
[]
[]
[]
[]
[]
[]
[]
[]
[]
[]
[]
[]
[]
[]
[]
[]
[]
[]
[]
[]
[]
[]
[]
[]
[]
[]
[]
[]
[]
[]
[]
[]
[]
[]
[]
[]
[]
[]
[]
[]
[]
[]
[]
[]
[]
[]
[]
[]
[]
[]
[]
[]
[]
[]
[]
[]
[]
[]
[]
[]
[]
[]
[]
[]
[]
[]
[]
[]
[]
[]
[]
[]
[]
[]
[]
[]
[]
[]
[]
[]
[]
[]
[]
[]
[]
[]
[]
[]
[]
[]
[]
[]
[]
[]
[]
[]
[]
[]
[]
[]
[]
[]
[]
[]
[]
[]
[]
[]
[]
[]
[]
[]
[]
[]
[]
[]
[]
[]
[]
[]
[]
[]
[]
[]
[]
[]
[]
[]
[]
[]
[]
[]
[]
[]
[]
[]
[]
[]
[]
[]
[]
[]
[]
[]
[]
[]
[]
[]
[]
[]
[]
[]
[]
[]
[]
[]
[]
[]
[]
[]
[]
[]
[]
[]
[]
[]
[]
[]
[]
[]
[]
[]
[]
[]
[]
[]
[]
[]
[]
[]
[]
[]
[]
[]
[]
[]
[]
[]
[]
[]
[]
[]
[]
[]
[]
[]
[]
[]
[]
[]
[]
[]
[]
[]
[]
[]
[]
[]
[]
[]
[]
[]
[]
[]
[]
[]
[]
[]
[]
[]
[]
[]
[]
[]
[]
[]
[]
[]
[]
[]
[]
[]
[]
[]
[]
[]
[]
[]
[]
[]
[]
[]
[]
[]
[]
[]
[]
[]
[]
[]
[]
[]
[]
[]
[]
[]
[]
[]
[]
[]
[]
[]
[]
[]
[]
[]
[]
[]
[]
[]
[]
[]
[]
[]
[]
[]
[]
[]
[]
[]
[]
[]
[]
[]
[]
[]
[]
[]
[]
[]
[]
[]
[]
[]
[]
[]
[]
[]
[]
[]
[]
[]
[]
[]
[]
[]
[]
[]
[]
[]
[]
[]
[]
[]
[]
[]
[]
[]
[]
[]
[]
[]
[]
[]
[]
[]
[]
[]
[]
[]
[]
[]
[]
[]
[]
[]
[]
[]
[]
[]
[]
[]
[]
[]
[]
[]
[]
[]
[]
[]
[]
[]
[]
[]
[]
[]
[]
[]
[]
[]
[]
[]
[]
[]
[]
[]
[]
[]
[]
[]
[]
[]
[]
[]
[]
[]
[]
[]
[]
[]
[]
[]
[]
[]
[]
[]
[]
[]
[]
[]
[]
[]
[]
[]
[]
[]
[]
[]
[]
[]
[]
[]
[]
[]
[]
[]
[]
[]
[]
[]
[]
[]
[]
[]
[]
[]
[]
[]
[]
[]
[]
[]
[]
[]
[]
[]
[]
[]
[]
[]
[]
[]
[]
[]
[]
[]
[]
[]
[]
[]
[]
[]
[]
[]
[]
[]
[]
[]
[]
[]
[]
[]
[]
[]
[]
[]
[]
[]
[]
[]
[]
[]
[]
[]
[]
[]
[]
[]
[]
[]
[]
[]
[]
[]
[]
[]
[]
[]
[]
[]
[]
[]
[]
[]
[]
[]
[]
[]
[]
[]
[]
[]
[]
[]
[]
[]
[]
[]
[]
[]
[]
[]
[]
[]
[]
[]
[]
[]
[]
[]
[]
[]
[]
[]
[]
[]
[]
[]
[]
[]
[]
[]
[]
[]
[]
[]
[]
[]
[]
[]
[]
[]
[]
[]
[]
[]
[]
[]
[]
[]
[]
[]
[]
[]
[]
[]
[]
[]
[]
[]
[]
[]
[]
[]
[]
[]
[]
[]
[]
[]
[]
[]
[]
[]
[]
[]
[]
[]
[]
[]
[]
[]
[]
[]
[]
[]
[]
[]
[]
[]
[]
[]
[]
[]
[]
[]
[]
[]
[]
[]
[]
[]
[]
[]
[]
[]
[]
[]
[]
[]
[]
[]
[]
[]
[]
[]
[]
[]
[]
[]
[]
[]
[]
[]
[]
[]
[]
[]
[]
[]
[]
[]
[]
[]
[]
[]
[]
[]
[]
[]
[]
[]
[]
[]
[]
[]
[]
[]
[]
[]
[]
[]
[]
[]
[]
[]
[]
[]
[]
[]
[]
[]
[]
[]
[]
[]
[]
[]
[]
[]
[]
[]
[]
[]
[]
[]
[]
[]
[]
[]
[]
[]
[]
[]
[]
[]
[]
[]
[]
[]
[]
[]
[]
[]
[]
[]
[]
[]
[]
[]
[]
[]
[]
[]
[]
[]
[]
[]
[]
[]
[]
[]
[]
[]
[]
[]
[]
[]
[]
[]
[]
[]
[]
[]
[]
[]
[]
[]
[]
[]
[]
[]
[]
[]
[]
[]
[]
[]
[]
[]
[]
[]
[]
[]
[]
[]
[]
[]
[]
[]
[]
[]
[]
[]
[]
[]
[]
[]
[]
[]
[]
[]
[]
[]
[]
[]
[]
[]
[]
[]
[]
[]
[]
[]
[]
[]
[]
[]
[]
[]
[]
[]
[]
[]
[]
[]
[]
[]
[]
[]
[]
[]
[]
[]
[]
[]
[]
[]
[]
[]
[]
[]
[]
[]
[]
[]
[]
[]
[]
[]
[]
[]
[]
[]
[]
[]
[]
[]
[]
[]
[]
[]
[]
[]
[]
[]
[]
[]
[]
[]
[]
[]
[]
[]
[]
[]
[]
[]
[]
[]
[]
[]
[]
[]
[]
[]
[]
[]
[]
[]
[]
[]
[]
[]
[]
[]
[]
[]
[]
[]
[]
[]
[]
[]
[]
[]
[]
[]
[]
[]
[]
[]
[]
[]
[]
[]
[]
[]
[]
[]
[]
[]
[]
[]
[]
[]
[]
[]
[]
[]
[]
[]
[]
[]
[]
[]
[]
[]
[]
[]
[]
[]
[]
[]
[]
[]
[]
[]
[]
[]
[]
[]
[]
[]
[]
[]
[]
[]
[]
[]
[]
[]
[]
[]
[]
[]
[]
[]
[]
[]
[]
[]
[]
[]
[]
[]
[]
[]
[]
[]
[]
[]
[]
[]
[]
[]
[]
[]
[]
[]
[]
[]
[]
[]
[]
[]
[]
[]
[]
[]
[]
[]
[]
[]
[]
[]
[]
[]
[]
[]
[]
[]
[]
[]
[]
[]
[]
[]
[]
[]
[]
[]
[]
[]
[]
[]
[]
[]
[]
[]
[]
[]
[]
[]
[]
[]
[]
[]
[]
[]
[]
[]
[]
[]
[]
[]
[]
[]
[]
[]
[]
[]
[]
[]
[]
[]
[]
[]
[]
[]
[]
[]
[]
[]
[]
[]
[]
[]
[]
[]
[]
[]
[]
[]
[]
[]
[]
[]
[]
[]
[]
[]
[]
[]
[]
[]
[]
[]
[]
[]
[]
[]
[]
[]
[]
[]
[]
[]
[]
[]
[]
[]
[]
[]
[]
[]
[]
[]
[]
[]
[]
[]
[]
[]
[]
[]
[]
[]
[]
[]
[]
[]
[]
[]
[]
[]
[]
[]
[]
[]
[]
[]
[]
[]
[]
[]
[]
[]
[]
[]
[]
[]
[]
[]
[]
[]
[]
[]
[]
[]
[]
[]
[]
[]
[]
[]
[]
[]
[]
[]
[]
[]
[]
[]
[]
[]
[]
[]
[]
[]
[]
[]
[]
[]
[]
[]
[]
[]
[]
[]
[]
[]
[]
[]
[]
[]
[]
[]
[]
[]
[]
[]
[]
[]
[]
[]
[]
[]
[]
[]
[]
[]
[]
[]
[]
[]
[]
[]
[]
[]
[]
[]
[]
[]
[]
[]
[]
[]
[]
[]
[]
[]
[]
[]
[]
[]
[]
[]
[]
[]
[]
[]
[]
[]
[]
[]
[]
[]
[]
[]
[]
[]
[]
[]
[]
[]
[]
[]
[]
[]
[]
[]
[]
[]
[]
[]
[]
[]
[]
[]
[]
[]
[]
[]
[]
[]
[]
[]
[]
[]
[]
[]
[]
[]
[]
[]
[]
[]
[]
[]
[]
[]
[]
[]
[]
[]
[]
[]
[]
[]
[]
[]
[]
[]
[]
[]
[]
[]
[]
[]
[]
[]
[]
[]
[]
[]
[]
[]
[]
[]
[]
[]
[]
[]
[]
[]
[]
[]
[]
[]
[]
[]
[]
[]
[]
[]
[]
[]
[]
[]
[]
[]
[]
[]
[]
[]
[]
[]
[]
[]
[]
[]
[]
[]
[]
[]
[]
[]
[]
[]
[]
[]
[]
[]
[]
[]
[]
[]
[]
[]
[]
[]
[]
[]
[]
[]
[]
[]
[]
[]
[]
[]
[]
[]
[]
[]
[]
[]
[]
[]
[]
[]
[]
[]
[]
[]
[]
[]
[]
[]
[]
[]
[]
[]
[]
[]
[]
[]
[]
[]
[]
[]
[]
[]
[]
[]
[]
[]
[]
[]
[]
[]
[]
[]
[]
[]
[]
[]
[]
[]
[]
[]
[]
[]
[]
[]
[]
[]
[]
[]
[]
[]
[]
[]
[]
[]
[]
[]
[]
[]
[]
[]
[]
[]
[]
[]
[]
[]
[]
[]
[]
[]
[]
[]
[]
[]
[]
[]
[]
[]
[]
[]
[]
[]
[]
[]
[]
[]
[]
[]
[]
[]
[]
[]
[]
[]
[]
[]
[]
[]
[]
[]
[]
[]
[]
[]
[]
[]
[]
[]
[]
[]
[]
[]
[]
[]
[]
[]
[]
[]
[]
[]
[]
[]
[]
[]
[]
[]
[]
[]
[]
[]
[]
[]
[]
[]
[]
[]
[]
[]
[]
[]
[]
[]
[]
[]
[]
[]
[]
[]
[]
[]
[]
[]
[]
[]
[]
[]
[]
[]
[]
[]
[]
[]
[]
[]
[]
[]
[]
[]
[]
[]
[]
[]
[]
[]
[]
[]
[]
[]
[]
[]
[]
[]
[]
[]
[]
[]
[]
[]
[]
[]
[]
[]
[]
[]
[]
[]
[]
[]
[]
[]
[]
[]
[]
[]
[]
[]
[]
[]
[]
[]
[]
[]
[]
[]
[]
[]
[]
[]
[]
[]
[]
[]
[]
[]
[]
[]
[]
[]
[]
[]
[]
[]
[]
[]
[]
[]
[]
[]
[]
[]
[]
[]
[]
[]
[]
[]
[]
[]
[]
[]
[]
[]
[]
[]
[]
[]
[]
[]
[]
[]
[]
[]
[]
[]
[]
[]
[]
[]
[]
[]
[]
[]
[]
[]
[]
[]
[]
[]
[]
[]
[]
[]
[]
[]
[]
[]
[]
[]
[]
[]
[]
[]
[]
[]
[]
[]
[]
[]
[]
[]
[]
[]
[]
[]
[]
[]
[]
[]
[]
[]
[]
[]
[]
[]
[]
[]
[]
[]
[]
[]
[]
[]
[]
[]
[]
[]
[]
[]
[]
[]
[]
[]
[]
[]
[]
[]
[]
[]
[]
[]
[]
[]
[]
[]
[]
[]
[]
[]
[]
[]
[]
[]
[]
[]
[]
[]
[]
[]
[]
[]
[]
[]
[]
[]
[]
[]
[]
[]
[]
[]
[]
[]
[]
[]
[]
[]
[]
[]
[]
[]
[]
[]
[]
[]
[]
[]
[]
[]
[]
[]
[]
[]
[]
[]
[]
[]
[]
[]
[]
[]
[]
[]
[]
[]
[]
[]
[]
[]
[]
[]
[]
[]
[]
[]
[]
[]
[]
[]
[]
[]
[]
[]
[]
[]
[]
[]
[]
[]
[]
[]
[]
[]
[]
[]
[]
[]
[]
[]
[]
[]
[]
[]
[]
[]
[]
[]
[]
[]
[]
[]
[]
[]
[]
[]
[]
[]
[]
[]
[]
[]
[]
[]
[]
[]
[]
[]
[]
[]
[]
[]
[]
[]
[]
[]
[]
[]
[]
[]
[]
[]
[]
[]
[]
[]
[]
[]
[]
[]
[]
[]
[]
[]
[]
[]
[]
[]
[]
[]
[]
[]
[]
[]
[]
[]
[]
[]
[]
[]
[]
[]
[]
[]
[]
[]
[]
[]
[]
[]
[]
[]
[]
[]
[]
[]
[]
[]
[]
[]
[]
[]
[]
[]
[]
[]
[]
[]
[]
[]
[]
[]
[]
[]
[]
[]
[]
[]
[]
[]
[]
[]
[]
[]
[]
[]
[]
[]
[]
[]
[]
[]
[]
[]
[]
[]
[]
[]
[]
[]
[]
[]
[]
[]
[]
[]
[]
[]
[]
[]
[]
[]
[]
[]
[]
[]
[]
[]
[]
[]
[]
[]
[]
[]
[]
[]
[]
[]
[]
[]
[]
[]
[]
[]
[]
[]
[]
[]
[]
[]
[]
[]
[]
[]
[]
[]
[]
[]
[]
[]
[]
[]
[]
[]
[]
[]
[]
[]
[]
[]
[]
[]
[]
[]
[]
[]
[]
[]
[]
[]
[]
[]
[]
[]
[]
[]
[]
[]
[]
[]
[]
[]
[]
[]
[]
[]
[]
[]
[]
[]
[]
[]
[]
[]
[]
[]
[]
[]
[]
[]
[]
[]
[]
[]
[]
[]
[]
[]
[]
[]
[]
[]
[]
[]
[]
[]
[]
[]
[]
[]
[]
[]
[]
[]
[]
[]
[]
[]
[]
[]
[]
[]
[]
[]
[]
[]
[]
[]
[]
[]
[]
[]
[]
[]
[]
[]
[]
[]
[]
[]
[]
[]
[]
[]
[]
[]
[]
[]
[]
[]
[]
[]
[]
[]
[]
[]
[]
[]
[]
[]
[]
[]
[]
[]
[]
[]
[]
[]
[]
[]
[]
[]
[]
[]
[]
[]
[]
[]
[]
[]
[]
[]
[]
[]
[]
[]
[]
[]
[]
[]
[]
[]
[]
[]
[]
[]
[]
[]
[]
[]
[]
[]
[]
[]
[]
[]
[]
[]
[]
[]
[]
[]
[]
[]
[]
[]
[]
[]
[]
[]
[]
[]
[]
[]
[]
[]
[]
[]
[]
[]
[]
[]
[]
[]
[]
[]
[]
[]
[]
[]
[]
[]
[]
[]
[]
[]
[]
[]
[]
[]
[]
[]
[]
[]
[]
[]
[]
[]
[]
[]
[]
[]
[]
[]
[]
[]
[]
[]
[]
[]
[]
[]
[]
[]
[]
[]
[]
[]
[]
[]
[]
[]
[]
[]
[]
[]
[]
[]
[]
[]
[]
[]
[]
[]
[]
[]
[]
[]
[]
[]
[]
[]
[]
[]
[]
[]
[]
[]
[]
[]
[]
[]
[]
[]
[]
[]
[]
[]
[]
[]
[]
[]
[]
[]
[]
[]
[]
[]
[]
[]
[]
[]
[]
[]
[]
[]
[]
[]
[]
[]
[]
[]
[]
[]
[]
[]
[]
[]
[]
[]
[]
[]
[]
[]
[]
[]
[]
[]
[]
[]
[]
[]
[]
[]
[]
[]
[]
[]
[]
[]
[]
[]
[]
[]
[]
[]
[]
[]
[]
[]
[]
[]
[]
[]
[]
[]
[]
[]
[]
[]
[]
[]
[]
[]
[]
[]
[]
[]
[]
[]
[]
[]
[]
[]
[]
[]
[]
[]
[]
[]
[]
[]
[]
[]
[]
[]
[]
[]
[]
[]
[]
[]
[]
[]
[]
[]
[]
[]
[]
[]
[]
[]
[]
[]
[]
[]
[]
[]
[]
[]
[]
[]
[]
[]
[]
[]
[]
[]
[]
[]
[]
[]
[]
[]
[]
[]
[]
[]
[]
[]
[]
[]
[]
[]
[]
[]
[]
[]
[]
[]
[]
[]
[]
[]
[]
[]
[]
[]
[]
[]
[]
[]
[]
[]
[]
[]
[]
[]
[]
[]
[]
[]
[]
[]
[]
[]
[]
[]
[]
[]
[]
[]
[]
[]
[]
[]
[]
[]
[]
[]
[]
[]
[]
[]
[]
[]
[]
[]
[]
[]
[]
[]
[]
[]
[]
[]
[]
[]
[]
[]
[]
[]
[]
[]
[]
[]
[]
[]
[]
[]
[]
[]
[]
[]
[]
[]
[]
[]
[]
[]
[]
[]
[]
[]
[]
[]
[]
[]
[]
[]
[]
[]
[]
[]
[]
[]
[]
[]
[]
[]
[]
[]
[]
[]
[]
[]
[]
[]
[]
[]
[]
[]
[]
[]
[]
[]
[]
[]
[]
[]
[]
[]
[]
[]
[]
[]
[]
[]
[]
[]
[]
[]
[]
[]
[]
[]
[]
[]
[]
[]
[]
[]
[]
[]
[]
[]
[]
[]
[]
[]
[]
[]
[]
[]
[]
[]
[]
[]
[]
[]
[]
[]
[]
[]
[]
[]
[]
[]
[]
[]
[]
[]
[]
[]
[]
[]
[]
[]
[]
[]
[]
[]
[]
[]
[]
[]
[]
[]
[]
[]
[]
[]
[]
[]
[]
[]
[]
[]
[]
[]
[]
[]
[]
[]
[]
[]
[]
[]
[]
[]
[]
[]
[]
[]
[]
[]
[]
[]
[]
[]
[]
[]
[]
[]
[]
[]
[]
[]
[]
[]
[]
[]
[]
[]
[]
[]
[]
[]
[]
[]
[]
[]
[]
[]
[]
[]
[]
[]
[]
[]
[]
[]
[]
[]
[]
[]
[]
[]
[]
[]
[]
[]
[]
[]
[]
[]
[]
[]
[]
[]
[]
[]
[]
[]
[]
[]
[]
[]
[]
[]
[]
[]
[]
[]
[]
[]
[]
[]
[]
[]
[]
[]
[]
[]
[]
[]
[]
[]
[]
[]
[]
[]
[]
[]
[]
[]
[]
[]
[]
[]
[]
[]
[]
[]
[]
[]
[]
[]
[]
[]
[]
[]
[]
[]
[]
[]
[]
[]
[]
[]
[]
[]
[]
[]
[]
[]
[]
[]
[]
[]
[]
[]
[]
[]
[]
[]
[]
[]
[]
[]
[]
[]
[]
[]
[]
[]
[]
[]
[]
[]
[]
[]
[]
[]
[]
[]
[]
[]
[]
[]
[]
[]
[]
[]
[]
[]
[]
[]
[]
[]
[]
[]
[]
[]
[]
[]
[]
[]
[]
[]
[]
[]
[]
[]
[]
[]
[]
[]
[]
[]
[]
[]
[]
[]
[]
[]
[]
[]
[]
[]
[]
[]
[]
[]
[]
[]
[]
[]
[]
[]
[]
[]
[]
[]
[]
[]
[]
[]
[]
[]
[]
[]
[]
[]
[]
[]
[]
[]
[]
[]
[]
[]
[]
[]
[]
[]
[]
[]
[]
[]
[]
[]
[]
[]
[]
[]
[]
[]
[]
[]
[]
[]
[]
[]
[]
[]
[]
[]
[]
[]
[]
[]
[]
[]
[]
[]
[]
[]
[]
[]
[]
[]
[]
[]
[]
[]
[]
[]
[]
[]
[]
[]
[]
[]
[]
[]
[]
[]
[]
[]
[]
[]
[]
[]
[]
[]
[]
[]
[]
[]
[]
[]
[]
[]
[]
[]
[]
[]
[]
[]
[]
[]
[]
[]
[]
[]
[]
[]
[]
[]
[]
[]
[]
[]
[]
[]
[]
[]
[]
[]
[]
[]
[]
[]
[]
[]
[]
[]
[]
[]
[]
[]
[]
[]
[]
[]
[]
[]
[]
[]
[]
[]
[]
[]
[]
[]
[]
[]
[]
[]
[]
[]
[]
[]
[]
[]
[]
[]
[]
[]
[]
[]
[]
[]
[]
[]
[]
[]
[]
[]
[]
[]
[]
[]
[]
[]
[]
[]
[]
[]
[]
[]
[]
[]
[]
[]
[]
[]
[]
[]
[]
[]
[]
[]
[]
[]
[]
[]
[]
[]
[]
[]
[]
[]
[]
[]
[]
[]
[]
[]
[]
[]
[]
[]
[]
[]
[]
[]
[]
[]
[]
[]
[]
[]
[]
[]
[]
[]
[]
[]
[]
[]
[]
[]
[]
[]
[]
[]
[]
[]
[]
[]
[]
[]
[]
[]
[]
[]
[]
[]
[]
[]
[]
[]
[]
[]
[]
[]
[]
[]
[]
[]
[]
[]
[]
[]
[]
[]
[]
[]
[]
[]
[]
[]
[]
[]
[]
[]
[]
[]
[]
[]
[]
[]
[]
[]
[]
[]
[]
[]
[]
[]
[]
[]
[]
[]
[]
[]
[]
[]
[]
[]
[]
[]
[]
[]
[]
[]
[]
[]
[]
[]
[]
[]
[]
[]
[]
[]
[]
[]
[]
[]
[]
[]
[]
[]
[]
[]
[]
[]
[]
[]
[]
[]
[]
[]
[]
[]
[]
[]
[]
[]
[]
[]
[]
[]
[]
[]
[]
[]
[]
[]
[]
[]
[]
[]
[]
[]
[]
[]
[]
[]
[]
[]
[]
[]
[]
[]
[]
[]
[]
[]
[]
[]
[]
[]
[]
[]
[]
[]
[]
[]
[]
[]
[]
[]
[]
[]
[]
[]
[]
[]
[]
[]
[]
[]
[]
[]
[]
[]
[]
[]
[]
[]
[]
[]
[]
[]
[]
[]
[]
[]
[]
[]
[]
[]
[]
[]
[]
[]
[]
[]
[]
[]
[]
[]
[]
[]
[]
[]
[]
[]
[]
[]
[]
[]
[]
[]
[]
[]
[]
[]
[]
[]
[]
[]
[]
[]
[]
[]
[]
[]
[]
[]
[]
[]
[]
[]
[]
[]
[]
[]
[]
[]
[]
[]
[]
[]
[]
[]
[]
[]
[]
[]
[]
[]
[]
[]
[]
[]
[]
[]
[]
[]
[]
[]
[]
[]
[]
[]
[]
[]
[]
[]
[]
[]
[]
[]
[]
[]
[]
[]
[]
[]
[]
[]
[]
[]
[]
[]
[]
[]
[]
[]
[]
[]
[]
[]
[]
[]
[]
[]
[]
[]
[]
[]
[]
[]
[]
[]
[]
[]
[]
[]
[]
[]
[]
[]
[]
[]
[]
[]
[]
[]
[]
[]
[]
[]
[]
[]
[]
[]
[]
[]
[]
[]
[]
[]
[]
[]
[]
[]
[]
[]
[]
[]
[]
[]
[]
[]
[]
[]
[]
[]
[]
[]
[]
[]
[]
[]
[]
[]
[]
[]
[]
[]
[]
[]
[]
[]
[]
[]
[]
[]
[]
[]
[]
[]
[]
[]
[]
[]
[]
[]
[]
[]
[]
[]
[]
[]
[]
[]
[]
[]
[]
[]
[]
[]
[]
[]
[]
[]
[]
[]
[]
[]
[]
[]
[]
[]
[]
[]
[]
[]
[]
[]
[]
[]
[]
[]
[]
[]
[]
[]
[]
[]
[]
[]
[]
[]
[]
[]
[]
[]
[]
[]
[]
[]
[]
[]
[]
[]
[]
[]
[]
[]
[]
[]
[]
[]
[]
[]
[]
[]
[]
[]
[]
[]
[]
[]
[]
[]
[]
[]
[]
[]
[]
[]
[]
[]
[]
[]
[]
[]
[]
[]
[]
[]
[]
[]
[]
[]
[]
[]
[]
[]
[]
[]
[]
[]
[]
[]
[]
[]
[]
[]
[]
[]
[]
[]
[]
[]
[]
[]
[]
[]
[]
[]
[]
[]
[]
[]
[]
[]
[]
[]
[]
[]
[]
[]
[]
[]
[]
[]
[]
[]
[]
[]
[]
[]
[]
[]
[]
[]
[]
[]
[]
[]
[]
[]
[]
[]
[]
[]
[]
[]
[]
[]
[]
[]
[]
[]
[]
[]
[]
[]
[]
[]
[]
[]
[]
[]
[]
[]
[]
[]
[]
[]
[]
[]
[]
[]
[]
[]
[]
[]
[]
[]
[]
[]
[]
[]
[]
[]
[]
[]
[]
[]
[]
[]
[]
[]
[]
[]
[]
[]
[]
[]
[]
[]
[]
[]
[]
[]
[]
[]
[]
[]
[]
[]
[]
[]
[]
[]
[]
[]
[]
[]
[]
[]
[]
[]
[]
[]
[]
[]
[]
[]
[]
[]
[]
[]
[]
[]
[]
[]
[]
[]
[]
[]
[]
[]
[]
[]
[]
[]
[]
[]
[]
[]
[]
[]
[]
[]
[]
[]
[]
[]
[]
[]
[]
[]
[]
[]
[]
[]
[]
[]
[]
[]
[]
[]
[]
[]
[]
[]
[]
[]
[]
[]
[]
[]
[]
[]
[]
[]
[]
[]
[]
[]
[]
[]
[]
[]
[]
[]
[]
[]
[]
[]
[]
[]
[]
[]
[]
[]
[]
[]
[]
[]
[]
[]
[]
[]
[]
[]
[]
[]
[]
[]
[]
[]
[]
[]
[]
[]
[]
[]
[]
[]
[]
[]
[]
[]
[]
[]
[]
[]
[]
[null,null,null,null,null,null,null,null,null,null,null,null,null,null,null,null,null,null," "]

{"sheet":"拾得の通知","index":1,"n_rows":38,"n_cols":15,"rows_kept":38,"cut":false,"hidden":false,"merged":[[37,6,37,8],[36,2,37,5],[34,6,34,8],[35,6,35,8],[34,2,35,5],[37,9,37,14],[36,6,36,8],[1,14,1,15],[2,1,2,15],[4,10,4,15],[33,2,33,8],[33,9,33,14],[34,9,34,14],[35,9,35,14],[36,9,36,14],[21,2,27,14],[29,2,29,14],[31,9,31,14],[31,2,31,8],[32,2,32,8],[32,9,32,14]]}
[]
[null,null,null,null,null,null,null,null,null,null,null,null,null,"管理番号","22-002"]
[null,"拾得物のお知らせ"]
[]
[null,null,null,null,null,null,null,null,null,null,{"$f":"VLOOKUP($O$2,拾得物管理表!B5:K204,10,FALSE)","v":"00:00:00"}]
[null,null,null,null,null,null,null,null,null,null,null,"管理部"]
[null,null,"以下の拾得物をお預かりしております。"]
[]
[]
[]
[]
[null,null,null,{"$f":"\"＜拾得物＞\"&CHAR(10)&(VLOOKUP($O$2,拾得物管理表!B5:K204,3,FALSE))&CHAR(10)&CHAR(10)&\"＜拾得日＞\"&CHAR(10)&(TEXT(VLOOKUP($O$2,拾得物管理表!B5:K204,5,FALSE),\"m月d日\"))&CHAR(10)&CHAR(10)&\"＜場　所＞\"&CHAR(10)&(VLOOKUP($O$2,拾得物管理表!B5:K204,6,FALSE))&\"　\"&(VLOOKUP($O$2,拾得物管理表!B5:K204,7,FALSE))","v":"＜拾得物＞\n\n\n＜拾得日＞\n1月0日\n\n＜場　所＞\n　"}]
[]
[]
[]
[]
[]
[]
[]
[]
[]
[null,null,{"$f":"\" 本日から、\"&TEXT(K5+10,\"m月d日\")&\"まで〇〇〇\"&CHAR(10)&\"(内線〇〇〇〇)でお預かりしております。\"&CHAR(10)&\"お心当たりの方は、ご確認に御越し下さい。\"","v":" 本日から、1月10日まで〇〇〇\n(内線〇〇〇〇)でお預かりしております。\nお心当たりの方は、ご確認に御越し下さい。"}]
[]
[]
[]
[]
[]
[]
[]
[null,null,"拾得物整理表"]
[]
[null,null,"管理番号",null,null,null,null,null,null,{"$f":"O2","v":"22-002"}]
[null,null,"品名",null,null,null,null,null,null,{"$f":"VLOOKUP(J32,拾得物管理表!B4:K205,3,FALSE)","v":"00:00:00"}]
[null,null,"拾得日",null,null,null,null,null,null,{"$f":"VLOOKUP(J32,拾得物管理表!B5:K205,5,FALSE)","v":"00:00:00"}]
[null,null,"拾得場所",null,null,null,"フロア",null,null,{"$f":"VLOOKUP(J32,拾得物管理表!B5:K204,6,FALSE)","v":"00:00:00"}]
[null,null,null,null,null,null,"場所",null,null,{"$f":"VLOOKUP(J32,拾得物管理表!B5:K204,7,FALSE)","v":"00:00:00"}]
[null,null,"拾得者",null,null,null,"所属",null,null,{"$f":"VLOOKUP(J32,拾得物管理表!B5:K204,8,FALSE)","v":"00:00:00"}]
[null,null,null,null,null,null,"名前",null,null,{"$f":"VLOOKUP(J32,拾得物管理表!B5:K204,9,FALSE)","v":"00:00:00"}]

{"sheet":"リスト設定","index":2,"n_rows":38,"n_cols":8,"rows_kept":38,"cut":false,"hidden":false,"merged":[]}
[]
[null,"管理状態",null,"フロア",null,"所属部署",null,"対応者"]
[null,"受付（金庫保管）",null,"A階",null,"部署1",null,"A"]
[null,"掲示板に掲載中",null,"B階",null,"部署2",null,"B"]
[null,"警察渡し（完了）",null,"C階",null,"部署3",null,"C"]
[null,"廃　棄（完了）",null,"D階",null,"部署4",null,"D"]
[null,"返却済（完了）",null,"E階",null,"部署5",null,"E"]
[null,null,null,"F階",null,"部署6",null,"F"]
[null,null,null,"G階",null,"部署7",null,"G"]
[null,null,null,null,null,"部署8",null,"H"]
[null,null,null,null,null,"部署9",null,"I"]
[null,null,null,null,null,"部署10",null,"J"]
[null,null,null,null,null,"部署11"]
[null,null,null,null,null,"部署12"]
[null,null,null,null,null,"部署13"]
[null,null,null,null,null,"部署14"]
[null,null,null,null,null,"部署15"]
[null,null,null,null,null,"部署16"]
[null,null,null,null,null,"部署17"]
[null,null,null,null,null,"部署18"]
[null,null,null,null,null,"部署19"]
[null,null,null,null,null,"部署20"]
[null,null,null,null,null,"部署21"]
[null,null,null,null,null,"部署22"]
[null,null,null,null,null,"部署23"]
[null,null,null,null,null,"部署24"]
[null,null,null,null,null,"部署25"]
[null,null,null,null,null,"部署26"]
[null,null,null,null,null,"部署27"]
[null,null,null,null,null,"部署28"]
[null,null,null,null,null,"部署29"]
[null,null,null,null,null,"部署30"]
[null,null,null,null,null,"部署31"]
[null,null,null,null,null,"部署32"]
[null,null,null,null,null,"部署33"]
[null,null,null,null,null,"部署34"]
[null,null,null,null,null,"部署35"]
[null,null,null,null,null,"部署36"]